BEGIN:VCALENDAR
VERSION:2.0
METHOD:PUBLISH
PRODID:-//List Fixer//NONSGML v1.0//EN
BEGIN:VEVENT
UID:event_00001387
DTSTAMP:20220618T140000Z
DTSTART:20220618T140000Z
DTEND:20220618T160000Z
SUMMARY:Volunteer Appreciation Day
LOCATION:Fort Allen Park, 49 Eastern Promenade, Portland ME
DESCRIPTION:Join Portland Area volunteers and staff on the Eas
 tern Prom for a picnic brunch to celebrate our har
 d work!\n\nVisit event page: https://www.mainestud
 entsvote.org/civicrm/event/info?id=1387&reset=1
END:VEVENT
END:VCALENDAR
